BEGIN:VCALENDAR
VERSION:2.0
PRODID:-//GDPR Awareness Coalition - ECPv4.5.3//NONSGML v1.0//EN
CALSCALE:GREGORIAN
METHOD:PUBLISH
X-WR-CALNAME:GDPR Awareness Coalition
X-ORIGINAL-URL:http://gdprcoalition.ie
X-WR-CALDESC:Events for GDPR Awareness Coalition
BEGIN:VEVENT
DTSTART;TZID=Europe/Dublin:20170927T100000
DTEND;TZID=Europe/Dublin:20170927T170000
DTSTAMP:20171024T033415
CREATED:20170506T063935Z
LAST-MODIFIED:20170506T064000Z
UID:1510-1506506400-1506531600@gdprcoalition.ie
SUMMARY:New General Data Protection Regulation
DESCRIPTION:[x_feature_headline type="left" level="h4" looks_like="h4" icon="bar-chart"]New General Data Protection Regulation[/x_feature_headline]\n\nIn depth analysis of the forthcoming General Data Protection Regulation (GDPR).Helping you prepare for the biggest change in data protection law for 20 years..\n\nVenue : London\nCost : £285\nMore Details : http://www.actnow.org.uk/courses/
URL:http://gdprcoalition.ie/event/new-general-data-protection-regulation-20/
ATTACH;FMTTYPE=image/png:http://gdprcoalition.ie/wp-content/uploads/2017/03/GDPR-logo-micu.png
END:VEVENT
BEGIN:VEVENT
DTSTART;TZID=Europe/Dublin:20170928T100000
DTEND;TZID=Europe/Dublin:20170928T170000
DTSTAMP:20171024T033415
CREATED:20170506T064045Z
LAST-MODIFIED:20170506T064045Z
UID:1509-1506592800-1506618000@gdprcoalition.ie
SUMMARY:New General Data Protection Regulation
DESCRIPTION:[x_feature_headline type="left" level="h4" looks_like="h4" icon="bar-chart"]New General Data Protection Regulation[/x_feature_headline]\n\nIn depth analysis of the forthcoming General Data Protection Regulation (GDPR).Helping you prepare for the biggest change in data protection law for 20 years..\n\nVenue : Edinburgh\nCost : £285\nMore Details : http://www.actnow.org.uk/courses/
URL:http://gdprcoalition.ie/event/new-general-data-protection-regulation-21/
ATTACH;FMTTYPE=image/png:http://gdprcoalition.ie/wp-content/uploads/2017/03/GDPR-logo-micu.png
END:VEVENT
BEGIN:VEVENT
DTSTART;TZID=Europe/Dublin:20170929T100000
DTEND;TZID=Europe/Dublin:20170929T170000
DTSTAMP:20171024T033415
CREATED:20170506T064648Z
LAST-MODIFIED:20170506T064648Z
UID:1518-1506679200-1506704400@gdprcoalition.ie
SUMMARY:Practical Data Protection Skills
DESCRIPTION:[x_feature_headline type="left" level="h4" looks_like="h4" icon="bar-chart"]Practical Data Protection Skills[/x_feature_headline]\n\nA step-by-step and up to the minute guide to meeting the practical requirements of the GDPR and its codes.\n\nVenue : Leeds\nCost : £287\nMore Details : http://www.actnow.org.uk/courses/
URL:http://gdprcoalition.ie/event/practical-data-protection-skills-2/
ATTACH;FMTTYPE=image/png:http://gdprcoalition.ie/wp-content/uploads/2017/03/GDPR-logo-micu.png
END:VEVENT
BEGIN:VEVENT
DTSTART;TZID=Europe/Dublin:20171002T100000
DTEND;TZID=Europe/Dublin:20171002T170000
DTSTAMP:20171024T033415
CREATED:20170506T060613Z
LAST-MODIFIED:20170506T060613Z
UID:1467-1506938400-1506963600@gdprcoalition.ie
SUMMARY:Managing Subject Access Requests Under DPA and GDPR
DESCRIPTION:[x_feature_headline type="left" level="h4" looks_like="h4" icon="bar-chart"]Managing Subject Access Requests Under DPA and GDPR[/x_feature_headline]\n\nA practical guide to dealing with requests for personal data under GDPR and s.7 of the DPA.\n\nVenue : Aberdeen\nCost : £285\nMore Details : http://www.actnow.org.uk/courses/
URL:http://gdprcoalition.ie/event/managing-subject-access-requests-under-dpa-and-gdpr-2/
ATTACH;FMTTYPE=image/png:http://gdprcoalition.ie/wp-content/uploads/2017/03/GDPR-logo-micu.png
END:VEVENT
BEGIN:VEVENT
DTSTART;TZID=Europe/Dublin:20171004T100000
DTEND;TZID=Europe/Dublin:20171004T170000
DTSTAMP:20171024T033415
CREATED:20170506T064131Z
LAST-MODIFIED:20170506T064131Z
UID:1508-1507111200-1507136400@gdprcoalition.ie
SUMMARY:New General Data Protection Regulation
DESCRIPTION:[x_feature_headline type="left" level="h4" looks_like="h4" icon="bar-chart"]New General Data Protection Regulation[/x_feature_headline]\n\nIn depth analysis of the forthcoming General Data Protection Regulation (GDPR).Helping you prepare for the biggest change in data protection law for 20 years..\n\nVenue : Belfast\nCost : £285\nMore Details : http://www.actnow.org.uk/courses/
URL:http://gdprcoalition.ie/event/new-general-data-protection-regulation-22/
ATTACH;FMTTYPE=image/png:http://gdprcoalition.ie/wp-content/uploads/2017/03/GDPR-logo-micu.png
END:VEVENT
BEGIN:VEVENT
DTSTART;TZID=Europe/Dublin:20171006T100000
DTEND;TZID=Europe/Dublin:20171006T170000
DTSTAMP:20171024T033415
CREATED:20170506T064225Z
LAST-MODIFIED:20170506T064225Z
UID:1507-1507284000-1507309200@gdprcoalition.ie
SUMMARY:New General Data Protection Regulation
DESCRIPTION:[x_feature_headline type="left" level="h4" looks_like="h4" icon="bar-chart"]New General Data Protection Regulation[/x_feature_headline]\n\nIn depth analysis of the forthcoming General Data Protection Regulation (GDPR).Helping you prepare for the biggest change in data protection law for 20 years..\n\nVenue : Leeds\nCost : £285\nMore Details : http://www.actnow.org.uk/courses/
URL:http://gdprcoalition.ie/event/new-general-data-protection-regulation-23/
ATTACH;FMTTYPE=image/png:http://gdprcoalition.ie/wp-content/uploads/2017/03/GDPR-logo-micu.png
END:VEVENT
BEGIN:VEVENT
DTSTART;TZID=Europe/Dublin:20171016T100000
DTEND;TZID=Europe/Dublin:20171016T170000
DTSTAMP:20171024T033415
CREATED:20170506T060218Z
LAST-MODIFIED:20170506T060218Z
UID:1463-1508148000-1508173200@gdprcoalition.ie
SUMMARY:Conducting PIAs and Audits
DESCRIPTION:[x_feature_headline type="left" level="h4" looks_like="h4" icon="bar-chart"]Conducting PIAs and Audits[/x_feature_headline]\n\nA practical guide to undertaking audits and PIAs in accordance with ICO guidance and best practice.\n\nVenue : Manchester\nCost : £285\nMore Details : http://www.actnow.org.uk/courses/
URL:http://gdprcoalition.ie/event/conducting-pias-and-audits-2/
END:VEVENT
BEGIN:VEVENT
DTSTART;TZID=Europe/Dublin:20171023T080000
DTEND;TZID=Europe/Dublin:20171023T170000
DTSTAMP:20171024T033415
CREATED:20170506T065518Z
LAST-MODIFIED:20170506T065518Z
UID:1525-1508745600-1508778000@gdprcoalition.ie
SUMMARY:GDPR Practitioner Certificate
DESCRIPTION:[x_feature_headline type="left" level="h4" looks_like="h4" icon="bar-chart"]GDPR Practitioner Certificate[/x_feature_headline]\n\nThe GDPR Practitioner Certificate (GDPR.Cert) is the qualification for those undertaking the role of Data Protection Officer under the new General Data Protection Regulation (GDPR). The course takes place over four days (one day per week) and involves lectures\, discussion and practical exercises. This is followed by a written assessment on day 5. Candidates are then required to complete a project (in their own time) to achieve the certificate.\n\nVenue : Belfast\nMore Details : http://www.actnow.org.uk/dpp
URL:http://gdprcoalition.ie/event/gdpr-practitioner-certificate-5/
ATTACH;FMTTYPE=image/png:http://gdprcoalition.ie/wp-content/uploads/2017/03/GDPR-logo-micu.png
END:VEVENT
BEGIN:VEVENT
DTSTART;TZID=Europe/Dublin:20171023T090000
DTEND;TZID=Europe/Dublin:20171023T170000
DTSTAMP:20171024T033415
CREATED:20170411T064438Z
LAST-MODIFIED:20170411T064438Z
UID:979-1508749200-1508778000@gdprcoalition.ie
SUMMARY:Records & Policy Management
DESCRIPTION:[x_feature_headline type="left" level="h4" looks_like="h4" icon="bar-chart"]Records & Policy Management[/x_feature_headline]\n\nOverview Module #7 of our European Certified Data Protection Officer Programme www.goo.gl/u4izH4
URL:http://gdprcoalition.ie/event/records-policy-management/
ATTACH;FMTTYPE=image/png:http://gdprcoalition.ie/wp-content/uploads/2017/04/300x100-ics-50th-logo.png
END:VEVENT
BEGIN:VEVENT
DTSTART;TZID=Europe/Dublin:20171023T100000
DTEND;TZID=Europe/Dublin:20171023T170000
DTSTAMP:20171024T033415
CREATED:20170406T112222Z
LAST-MODIFIED:20170406T112222Z
UID:872-1508752800-1508778000@gdprcoalition.ie
SUMMARY:ECDPO 7 - Records & Policy Management
DESCRIPTION:[x_feature_headline type="left" level="h4" looks_like="h4" icon="bar-chart"]ECDPO 7 - Records & Policy Management[/x_feature_headline]
URL:http://gdprcoalition.ie/event/ecdpo-7-records-policy-management/
END:VEVENT
BEGIN:VEVENT
DTSTART;TZID=Europe/Dublin:20171023T100000
DTEND;TZID=Europe/Dublin:20171023T170000
DTSTAMP:20171024T033415
CREATED:20170506T070757Z
LAST-MODIFIED:20170506T070757Z
UID:1541-1508752800-1508778000@gdprcoalition.ie
SUMMARY:GDPR Practitioner Certificate
DESCRIPTION:[x_feature_headline type="left" level="h4" looks_like="h4" icon="bar-chart"]GDPR Practitioner Certificate[/x_feature_headline]\n\nThe GDPR Practitioner Certificate (GDPR.Cert) is the qualification for those undertaking the role of Data Protection Officer under the new General Data Protection Regulation (GDPR). The course takes place over four days (one day per week) and involves lectures\, discussion and practical exercises. This is followed by a written assessment on day 5. Candidates are then required to complete a project (in their own time) to achieve the certificate.\n\nVenue : Edinburgh\nMore Details : http://www.actnow.org.uk/dpp
URL:http://gdprcoalition.ie/event/gdpr-practitioner-certificate-14/
ATTACH;FMTTYPE=image/png:http://gdprcoalition.ie/wp-content/uploads/2017/03/GDPR-logo-micu.png
END:VEVENT
BEGIN:VEVENT
DTSTART;TZID=Europe/Dublin:20171024T090000
DTEND;TZID=Europe/Dublin:20171024T170000
DTSTAMP:20171024T033415
CREATED:20170411T064637Z
LAST-MODIFIED:20170411T064637Z
UID:981-1508835600-1508864400@gdprcoalition.ie
SUMMARY:Sector specific training on Data Protection (Public Sector/Financial Sector/HR/IT)
DESCRIPTION:[x_feature_headline type="left" level="h4" looks_like="h4" icon="bar-chart"]Sector specific training on Data Protection (Public Sector/Financial Sector/HR/IT)[/x_feature_headline]\n\nOverview Module #8 of our European Certified Data Protection Officer Programme www.goo.gl/u4izH4
URL:http://gdprcoalition.ie/event/sector-specific-training-on-data-protection-public-sectorfinancial-sectorhrit/
ATTACH;FMTTYPE=image/png:http://gdprcoalition.ie/wp-content/uploads/2017/04/300x100-ics-50th-logo.png
END:VEVENT
BEGIN:VEVENT
DTSTART;TZID=Europe/Dublin:20171024T100000
DTEND;TZID=Europe/Dublin:20171024T170000
DTSTAMP:20171024T033415
CREATED:20170406T112319Z
LAST-MODIFIED:20170406T112319Z
UID:874-1508839200-1508864400@gdprcoalition.ie
SUMMARY:ECDPO 8 - Sector specific training on Data Protection (Public Sector/Financial Sector/HR/IT)
DESCRIPTION:[x_feature_headline type="left" level="h4" looks_like="h4" icon="bar-chart"]ECDPO 8 - Sector specific training on Data Protection (Public Sector/Financial Sector/HR/IT)[/x_feature_headline]
URL:http://gdprcoalition.ie/event/ecdpo-8-sector-specific-training-on-data-protection-public-sectorfinancial-sectorhrit/
END:VEVENT
BEGIN:VEVENT
DTSTART;TZID=Europe/Dublin:20171031T100000
DTEND;TZID=Europe/Dublin:20171031T170000
DTSTAMP:20171024T033415
CREATED:20170506T070919Z
LAST-MODIFIED:20170506T070919Z
UID:1540-1509444000-1509469200@gdprcoalition.ie
SUMMARY:GDPR Practitioner Certificate
DESCRIPTION:[x_feature_headline type="left" level="h4" looks_like="h4" icon="bar-chart"]GDPR Practitioner Certificate[/x_feature_headline]\n\nThe GDPR Practitioner Certificate (GDPR.Cert) is the qualification for those undertaking the role of Data Protection Officer under the new General Data Protection Regulation (GDPR). The course takes place over four days (one day per week) and involves lectures\, discussion and practical exercises. This is followed by a written assessment on day 5. Candidates are then required to complete a project (in their own time) to achieve the certificate.\n\nVenue : Manchester\nMore Details : http://www.actnow.org.uk/dpp
URL:http://gdprcoalition.ie/event/gdpr-practitioner-certificate-15/
ATTACH;FMTTYPE=image/png:http://gdprcoalition.ie/wp-content/uploads/2017/03/GDPR-logo-micu.png
END:VEVENT
BEGIN:VEVENT
DTSTART;TZID=Europe/Dublin:20171101T100000
DTEND;TZID=Europe/Dublin:20171101T170000
DTSTAMP:20171024T033415
CREATED:20170506T071045Z
LAST-MODIFIED:20170506T071045Z
UID:1539-1509530400-1509555600@gdprcoalition.ie
SUMMARY:GDPR Practitioner Certificate
DESCRIPTION:[x_feature_headline type="left" level="h4" looks_like="h4" icon="bar-chart"]GDPR Practitioner Certificate[/x_feature_headline]\n\nThe GDPR Practitioner Certificate (GDPR.Cert) is the qualification for those undertaking the role of Data Protection Officer under the new General Data Protection Regulation (GDPR). The course takes place over four days (one day per week) and involves lectures\, discussion and practical exercises. This is followed by a written assessment on day 5. Candidates are then required to complete a project (in their own time) to achieve the certificate.\n\nVenue : London\nMore Details : http://www.actnow.org.uk/dpp
URL:http://gdprcoalition.ie/event/gdpr-practitioner-certificate-16/
ATTACH;FMTTYPE=image/png:http://gdprcoalition.ie/wp-content/uploads/2017/03/GDPR-logo-micu.png
END:VEVENT
END:VCALENDAR